BEGIN:VCALENDAR
VERSION:2.0
PRODID:-//Omaha Stormwater - ECPv6.15.20//NONSGML v1.0//EN
CALSCALE:GREGORIAN
METHOD:PUBLISH
X-ORIGINAL-URL:https://www.omahastormwater.org
X-WR-CALDESC:Events for Omaha Stormwater
REFRESH-INTERVAL;VALUE=DURATION:PT1H
X-Robots-Tag:noindex
X-PUBLISHED-TTL:PT1H
BEGIN:VTIMEZONE
TZID:UTC
BEGIN:STANDARD
TZOFFSETFROM:+0000
TZOFFSETTO:+0000
TZNAME:UTC
DTSTART:20140101T000000
END:STANDARD
END:VTIMEZONE
BEGIN:VEVENT
DTSTART;TZID=UTC:20150927T080000
DTEND;TZID=UTC:20150927T170000
DTSTAMP:20260424T084310
CREATED:20150405T015045Z
LAST-MODIFIED:20160506T000320Z
UID:3006-1443340800-1443373200@www.omahastormwater.org
SUMMARY:Walk for the Animals
DESCRIPTION:Have fun and get fit with your pooch all for a great cause. The 2015 Nebraska Humane Societies Walk for the Animals will have plenty of fun and treats (and us of course!). Come on down and join the fun!
URL:https://www.omahastormwater.org/event/walk-for-the-animals/
LOCATION:Nebraska Humane Society Meadow\, 8801 Fort St.\, Omaha\, NE\, 68134\, United States
CATEGORIES:Residential
ATTACH;FMTTYPE=image/png:https://www.omahastormwater.org/wp-content/uploads/2015/04/27599.png
ORGANIZER;CN="James Kee%2C Jr.":MAILTO:james.kee@cityofomaha.org
END:VEVENT
END:VCALENDAR