BEGIN:VCALENDAR
VERSION:2.0
PRODID:-//Omaha Stormwater - ECPv6.15.20//NONSGML v1.0//EN
CALSCALE:GREGORIAN
METHOD:PUBLISH
X-WR-CALNAME:Omaha Stormwater
X-ORIGINAL-URL:https://www.omahastormwater.org
X-WR-CALDESC:Events for Omaha Stormwater
REFRESH-INTERVAL;VALUE=DURATION:PT1H
X-Robots-Tag:noindex
X-PUBLISHED-TTL:PT1H
BEGIN:VTIMEZONE
TZID:UTC
BEGIN:STANDARD
TZOFFSETFROM:+0000
TZOFFSETTO:+0000
TZNAME:UTC
DTSTART:20140101T000000
END:STANDARD
END:VTIMEZONE
BEGIN:VEVENT
DTSTART;TZID=UTC:20150425T080000
DTEND;TZID=UTC:20150425T160000
DTSTAMP:20260424T165011
CREATED:20150404T224950Z
LAST-MODIFIED:20150405T011736Z
UID:2991-1429948800-1429977600@www.omahastormwater.org
SUMMARY:ODPA Spring Bark in the Park
DESCRIPTION:Come join us at Hefflinger Dog Park for this years Spring Bark in the Park hosted by the Omaha Dog Park Advocates! Come play with some cute pups and learn the importance of picking up their waste.
URL:https://www.omahastormwater.org/event/odpa-spring-bark-in-the-park/
LOCATION:NE
CATEGORIES:Residential
ATTACH;FMTTYPE=image/jpeg:https://www.omahastormwater.org/wp-content/uploads/2015/04/Omaha-Dog-Parks_300x250-150x150.jpg
ORGANIZER;CN="James Kee%2C Jr.":MAILTO:james.kee@cityofomaha.org
END:VEVENT
END:VCALENDAR