BEGIN:VCALENDAR
VERSION:2.0
PRODID:-//Omaha Stormwater - ECPv6.15.20//NONSGML v1.0//EN
CALSCALE:GREGORIAN
METHOD:PUBLISH
X-ORIGINAL-URL:https://www.omahastormwater.org
X-WR-CALDESC:Events for Omaha Stormwater
REFRESH-INTERVAL;VALUE=DURATION:PT1H
X-Robots-Tag:noindex
X-PUBLISHED-TTL:PT1H
BEGIN:VTIMEZONE
TZID:UTC
BEGIN:STANDARD
TZOFFSETFROM:+0000
TZOFFSETTO:+0000
TZNAME:UTC
DTSTART:20140101T000000
END:STANDARD
END:VTIMEZONE
BEGIN:VEVENT
DTSTART;TZID=UTC:20150418T110000
DTEND;TZID=UTC:20150418T180000
DTSTAMP:20260424T165101
CREATED:20150404T220520Z
LAST-MODIFIED:20150404T220520Z
UID:2990-1429354800-1429380000@www.omahastormwater.org
SUMMARY:Earth Day Omaha 2015
DESCRIPTION:Visit us at Elmwood Park for Earth Day on April 18th from 11am-6pm. We will be presenting information on building a DIY rain barrel\, have children’s activity books\, and lots of fun facts about how stormwater pollution impacts the environment!
URL:https://www.omahastormwater.org/event/earth-day-omaha-2015/
LOCATION:Elmwood Park\, 802 S 60th St\, Omaha\, NE\, 68112\, United States
CATEGORIES:Residential
ATTACH;FMTTYPE=image/jpeg:https://www.omahastormwater.org/wp-content/uploads/2015/04/shutterstock_176322620.jpg
ORGANIZER;CN="James Kee%2C Jr.":MAILTO:james.kee@cityofomaha.org
END:VEVENT
END:VCALENDAR