BEGIN:VCALENDAR
VERSION:2.0
PRODID:-//Omaha Stormwater - ECPv6.15.20//NONSGML v1.0//EN
CALSCALE:GREGORIAN
METHOD:PUBLISH
X-ORIGINAL-URL:https://www.omahastormwater.org
X-WR-CALDESC:Events for Omaha Stormwater
REFRESH-INTERVAL;VALUE=DURATION:PT1H
X-Robots-Tag:noindex
X-PUBLISHED-TTL:PT1H
BEGIN:VTIMEZONE
TZID:UTC
BEGIN:STANDARD
TZOFFSETFROM:+0000
TZOFFSETTO:+0000
TZNAME:UTC
DTSTART:20150101T000000
END:STANDARD
END:VTIMEZONE
BEGIN:VEVENT
DTSTART;TZID=UTC:20160910T120000
DTEND;TZID=UTC:20160910T160000
DTSTAMP:20260423T151358
CREATED:20160907T184006Z
LAST-MODIFIED:20160909T193903Z
UID:3362-1473508800-1473523200@www.omahastormwater.org
SUMMARY:2016 World O! Water
DESCRIPTION:World O! Water is a fun\, annual event for people of all ages to learn about the important role that water plays in our lives and community. Join us this year on September 10th to experience live demonstrations\, science experiments\, games\, and canoe rides while talking to local experts about water quality\, conservation\, and recreational activities. Your family\, youth group\, scout troop\, school class\, and even your dog\, is welcome to attend this free event held at Wehrspann Lake inside the Chalco Hills Recreation Area.
URL:https://www.omahastormwater.org/event/2015-world-o-water/
LOCATION:Papio-Missouri NRD / Chalco Hills\, 8901 S 154th Street\, Omaha\, NE\, 68138\, United States
CATEGORIES:Construction,Government,Post-Construction,Residential
END:VEVENT
BEGIN:VEVENT
DTSTART;TZID=UTC:20160915T090000
DTEND;TZID=UTC:20160915T153000
DTSTAMP:20260423T151358
CREATED:20160902T040229Z
LAST-MODIFIED:20160909T202415Z
UID:3356-1473930000-1473953400@www.omahastormwater.org
SUMMARY:2016 Omaha Green Infrastructure Tour
DESCRIPTION:Join us\, as we tour some of the newest stormwater management projects in Omaha and re-visit established green infrastructure projects. Six of this year’s tour stops are new to the tour! Criteria for tour stop selection included ensuring a variety of consultants\, various project scales\, various management practices\, and availability of tour guides.\nTour stops will include:\n  -Hell Creek Stream Restoration\n  -Spring Lake CSO Project\n  -24th Street Bioretention\n  -Florence Streetscape\n  -Northwest High School Rain Gardens & Permeable Paving\n  -Benson West Elementary\n  -Hillsdale Vegetated Swale & Sediment Removal Structure \nRegistration begins at 8:30 am\nRegistration Deadline: September 12\nFor more information on this event\, please contact:\nKatie Pekarek at kpekarek2@unl.edu or 402-560-3110
URL:https://www.omahastormwater.org/event/2016-omaha-green-infrastructure-tour/
LOCATION:Douglas/Sarpy County Extension Office\, 8015 W. Center Rd\, Omaha\, NE\, United States
CATEGORIES:Construction,Government,Industry,Post-Construction,Residential
ATTACH;FMTTYPE=image/jpeg:https://www.omahastormwater.org/wp-content/uploads/2016/09/IMG_3447-e1473434587973.jpg
END:VEVENT
END:VCALENDAR