BEGIN:VCALENDAR
VERSION:2.0
PRODID:-//Omaha Stormwater - ECPv6.15.20//NONSGML v1.0//EN
CALSCALE:GREGORIAN
METHOD:PUBLISH
X-ORIGINAL-URL:https://www.omahastormwater.org
X-WR-CALDESC:Events for Omaha Stormwater
REFRESH-INTERVAL;VALUE=DURATION:PT1H
X-Robots-Tag:noindex
X-PUBLISHED-TTL:PT1H
BEGIN:VTIMEZONE
TZID:UTC
BEGIN:STANDARD
TZOFFSETFROM:+0000
TZOFFSETTO:+0000
TZNAME:UTC
DTSTART:20140101T000000
END:STANDARD
END:VTIMEZONE
BEGIN:VEVENT
DTSTART;TZID=UTC:20150801T080000
DTEND;TZID=UTC:20150801T130000
DTSTAMP:20260424T100707
CREATED:20150405T013712Z
LAST-MODIFIED:20150405T013712Z
UID:3003-1438416000-1438434000@www.omahastormwater.org
SUMMARY:Yappy Pack Carnival and Car Show
DESCRIPTION:The second Annual Yappy Pack Carnival and Car show hosted by the Nebraska Humane society will be featuring games\, food\, nail trims and more! While you’re down there don’t forget to stop by our table and learn about how you and your pooch can help keep our water clean!
URL:https://www.omahastormwater.org/event/yappy-pack-carnival-and-car-show/
LOCATION:Nebraska Humane Society Meadow\, 8801 Fort St.\, Omaha\, NE\, 68134\, United States
CATEGORIES:Residential
ATTACH;FMTTYPE=image/jpeg:https://www.omahastormwater.org/wp-content/uploads/2015/04/carnival-2015.jpg
ORGANIZER;CN="James Kee%2C Jr.":MAILTO:james.kee@cityofomaha.org
END:VEVENT
END:VCALENDAR